BEGIN:VCALENDAR
VERSION:2.0
PRODID:-//Ponderosa Community Club - ECPv6.15.20//NONSGML v1.0//EN
CALSCALE:GREGORIAN
METHOD:PUBLISH
X-WR-CALNAME:Ponderosa Community Club
X-ORIGINAL-URL:https://www.ponderosacommunityclub.com
X-WR-CALDESC:Events for Ponderosa Community Club
REFRESH-INTERVAL;VALUE=DURATION:PT1H
X-Robots-Tag:noindex
X-PUBLISHED-TTL:PT1H
BEGIN:VTIMEZONE
TZID:America/Los_Angeles
BEGIN:DAYLIGHT
TZOFFSETFROM:-0800
TZOFFSETTO:-0700
TZNAME:PDT
DTSTART:20210314T100000
END:DAYLIGHT
BEGIN:STANDARD
TZOFFSETFROM:-0700
TZOFFSETTO:-0800
TZNAME:PST
DTSTART:20211107T090000
END:STANDARD
BEGIN:DAYLIGHT
TZOFFSETFROM:-0800
TZOFFSETTO:-0700
TZNAME:PDT
DTSTART:20220313T100000
END:DAYLIGHT
BEGIN:STANDARD
TZOFFSETFROM:-0700
TZOFFSETTO:-0800
TZNAME:PST
DTSTART:20221106T090000
END:STANDARD
BEGIN:DAYLIGHT
TZOFFSETFROM:-0800
TZOFFSETTO:-0700
TZNAME:PDT
DTSTART:20230312T100000
END:DAYLIGHT
BEGIN:STANDARD
TZOFFSETFROM:-0700
TZOFFSETTO:-0800
TZNAME:PST
DTSTART:20231105T090000
END:STANDARD
END:VTIMEZONE
BEGIN:VEVENT
DTSTART;TZID=America/Los_Angeles:20220608T103000
DTEND;TZID=America/Los_Angeles:20220608T140000
DTSTAMP:20260425T191612
CREATED:20220530T221147Z
LAST-MODIFIED:20220530T221305Z
UID:7559-1654684200-1654696800@www.ponderosacommunityclub.com
SUMMARY:Quilters
DESCRIPTION:
URL:https://www.ponderosacommunityclub.com/event/quilters/
LOCATION:Clubhouse
CATEGORIES:Social
ATTACH;FMTTYPE=image/jpeg:https://www.ponderosacommunityclub.com/wp-content/uploads/quilting.jpg
END:VEVENT
BEGIN:VEVENT
DTSTART;TZID=America/Los_Angeles:20220601T090000
DTEND;TZID=America/Los_Angeles:20220601T100000
DTSTAMP:20260425T191612
CREATED:20220530T202823Z
LAST-MODIFIED:20220530T204924Z
UID:6777-1654074000-1654077600@www.ponderosacommunityclub.com
SUMMARY:Exercise
DESCRIPTION:Why is physical activity important? \nExercise and physical activity are good for just about everyone\, including older adults. No matter your health and physical abilities\, you can gain a lot by staying active. In fact\, studies show that “taking it easy” is risky. Often\, inactivity is more to blame than age when older people lose the ability to do things on their own. Lack of physical activity also can lead to more visits to the doctor\, more hospitalizations\, and more use of medicines for a variety of illnesses. \nIncluding all 4 types of exercise can benefit a wide range of areas of your life. Staying active can help you: \n\nKeep and improve your strength so you can stay independent\nHave more energy to do the things you want to do and reduce fatigue\nImprove your balance and lower risk of falls and injuries from falls\nManage and prevent some diseases like arthritis\, heart disease\, stroke\, type 2 diabetes\, osteoporosis\, and 8 types of cancer\, including breast and colon cancer\nSleep better at home\nReduce levels of stress and anxiety\nReach or maintain a healthy weight and reduce risk of excessive weight gain\nControl your blood pressure\nPossibly improve or maintain some aspects of cognitive function\, such as your ability to shift quickly between tasks or plan an activity\nPerk up your mood and reduce feelings of depression\n\nEmotional benefits of exercise \nResearch has shown that exercise is not only good for your physical health\, it also supports emotional and mental health. You can exercise with a friend and get the added benefit of emotional support. So\, next time you’re feeling down\, anxious\, or stressed\, try to get up and start moving! Physical activity can help: \n\nReduce feelings of depression and stress\, while improving your mood and overall emotional well-being\nIncrease your energy level\nImprove sleep\nEmpower you to feel more in control
URL:https://www.ponderosacommunityclub.com/event/exercise/
LOCATION:Clubhouse
CATEGORIES:Social
ATTACH;FMTTYPE=image/png:https://www.ponderosacommunityclub.com/wp-content/uploads/exercise-woman.png
ORGANIZER;CN="Rose Ann McRoberts":MAILTO:social@ponderosacommunityclub.com
END:VEVENT
BEGIN:VEVENT
DTSTART;TZID=America/Los_Angeles:20220606T133000
DTEND;TZID=America/Los_Angeles:20220606T160000
DTSTAMP:20260425T191612
CREATED:20220530T220356Z
LAST-MODIFIED:20220530T221550Z
UID:7534-1654522200-1654531200@www.ponderosacommunityclub.com
SUMMARY:Bridge
DESCRIPTION:
URL:https://www.ponderosacommunityclub.com/event/bridge/
LOCATION:Clubhouse
CATEGORIES:Social
ATTACH;FMTTYPE=image/png:https://www.ponderosacommunityclub.com/wp-content/uploads/Bridge_table.png
END:VEVENT
BEGIN:VEVENT
DTSTART;TZID=America/Los_Angeles:20220601T090000
DTEND;TZID=America/Los_Angeles:20220601T100000
DTSTAMP:20260425T191612
CREATED:20220530T202823Z
LAST-MODIFIED:20220530T204924Z
UID:6777-1654074000-1654077600@www.ponderosacommunityclub.com
SUMMARY:Exercise
DESCRIPTION:Why is physical activity important? \nExercise and physical activity are good for just about everyone\, including older adults. No matter your health and physical abilities\, you can gain a lot by staying active. In fact\, studies show that “taking it easy” is risky. Often\, inactivity is more to blame than age when older people lose the ability to do things on their own. Lack of physical activity also can lead to more visits to the doctor\, more hospitalizations\, and more use of medicines for a variety of illnesses. \nIncluding all 4 types of exercise can benefit a wide range of areas of your life. Staying active can help you: \n\nKeep and improve your strength so you can stay independent\nHave more energy to do the things you want to do and reduce fatigue\nImprove your balance and lower risk of falls and injuries from falls\nManage and prevent some diseases like arthritis\, heart disease\, stroke\, type 2 diabetes\, osteoporosis\, and 8 types of cancer\, including breast and colon cancer\nSleep better at home\nReduce levels of stress and anxiety\nReach or maintain a healthy weight and reduce risk of excessive weight gain\nControl your blood pressure\nPossibly improve or maintain some aspects of cognitive function\, such as your ability to shift quickly between tasks or plan an activity\nPerk up your mood and reduce feelings of depression\n\nEmotional benefits of exercise \nResearch has shown that exercise is not only good for your physical health\, it also supports emotional and mental health. You can exercise with a friend and get the added benefit of emotional support. So\, next time you’re feeling down\, anxious\, or stressed\, try to get up and start moving! Physical activity can help: \n\nReduce feelings of depression and stress\, while improving your mood and overall emotional well-being\nIncrease your energy level\nImprove sleep\nEmpower you to feel more in control
URL:https://www.ponderosacommunityclub.com/event/exercise/
LOCATION:Clubhouse
CATEGORIES:Social
ATTACH;FMTTYPE=image/png:https://www.ponderosacommunityclub.com/wp-content/uploads/exercise-woman.png
ORGANIZER;CN="Rose Ann McRoberts":MAILTO:social@ponderosacommunityclub.com
END:VEVENT
BEGIN:VEVENT
DTSTART;TZID=America/Los_Angeles:20220601T090000
DTEND;TZID=America/Los_Angeles:20220601T100000
DTSTAMP:20260425T191612
CREATED:20220530T202823Z
LAST-MODIFIED:20220530T204924Z
UID:6777-1654074000-1654077600@www.ponderosacommunityclub.com
SUMMARY:Exercise
DESCRIPTION:Why is physical activity important? \nExercise and physical activity are good for just about everyone\, including older adults. No matter your health and physical abilities\, you can gain a lot by staying active. In fact\, studies show that “taking it easy” is risky. Often\, inactivity is more to blame than age when older people lose the ability to do things on their own. Lack of physical activity also can lead to more visits to the doctor\, more hospitalizations\, and more use of medicines for a variety of illnesses. \nIncluding all 4 types of exercise can benefit a wide range of areas of your life. Staying active can help you: \n\nKeep and improve your strength so you can stay independent\nHave more energy to do the things you want to do and reduce fatigue\nImprove your balance and lower risk of falls and injuries from falls\nManage and prevent some diseases like arthritis\, heart disease\, stroke\, type 2 diabetes\, osteoporosis\, and 8 types of cancer\, including breast and colon cancer\nSleep better at home\nReduce levels of stress and anxiety\nReach or maintain a healthy weight and reduce risk of excessive weight gain\nControl your blood pressure\nPossibly improve or maintain some aspects of cognitive function\, such as your ability to shift quickly between tasks or plan an activity\nPerk up your mood and reduce feelings of depression\n\nEmotional benefits of exercise \nResearch has shown that exercise is not only good for your physical health\, it also supports emotional and mental health. You can exercise with a friend and get the added benefit of emotional support. So\, next time you’re feeling down\, anxious\, or stressed\, try to get up and start moving! Physical activity can help: \n\nReduce feelings of depression and stress\, while improving your mood and overall emotional well-being\nIncrease your energy level\nImprove sleep\nEmpower you to feel more in control
URL:https://www.ponderosacommunityclub.com/event/exercise/
LOCATION:Clubhouse
CATEGORIES:Social
ATTACH;FMTTYPE=image/png:https://www.ponderosacommunityclub.com/wp-content/uploads/exercise-woman.png
ORGANIZER;CN="Rose Ann McRoberts":MAILTO:social@ponderosacommunityclub.com
END:VEVENT
BEGIN:VEVENT
DTSTART;TZID=America/Los_Angeles:20220601T120000
DTEND;TZID=America/Los_Angeles:20220601T120100
DTSTAMP:20260425T191612
CREATED:20220531T000608Z
LAST-MODIFIED:20220531T000923Z
UID:7633-1654084800-1654084860@www.ponderosacommunityclub.com
SUMMARY:Emergency Evacuation Alert Siren Test
DESCRIPTION:A test of the emergency evacuation alert siren will be conducted at 12 noon on June 1st. This is only a test.
URL:https://www.ponderosacommunityclub.com/event/siren-test/
CATEGORIES:Community
ATTACH;FMTTYPE=image/png:https://www.ponderosacommunityclub.com/wp-content/uploads/EvacuationSirenTesting.png
END:VEVENT
BEGIN:VEVENT
DTSTART;TZID=America/Los_Angeles:20220601T090000
DTEND;TZID=America/Los_Angeles:20220601T100000
DTSTAMP:20260425T191612
CREATED:20220530T202823Z
LAST-MODIFIED:20220530T204924Z
UID:6777-1654074000-1654077600@www.ponderosacommunityclub.com
SUMMARY:Exercise
DESCRIPTION:Why is physical activity important? \nExercise and physical activity are good for just about everyone\, including older adults. No matter your health and physical abilities\, you can gain a lot by staying active. In fact\, studies show that “taking it easy” is risky. Often\, inactivity is more to blame than age when older people lose the ability to do things on their own. Lack of physical activity also can lead to more visits to the doctor\, more hospitalizations\, and more use of medicines for a variety of illnesses. \nIncluding all 4 types of exercise can benefit a wide range of areas of your life. Staying active can help you: \n\nKeep and improve your strength so you can stay independent\nHave more energy to do the things you want to do and reduce fatigue\nImprove your balance and lower risk of falls and injuries from falls\nManage and prevent some diseases like arthritis\, heart disease\, stroke\, type 2 diabetes\, osteoporosis\, and 8 types of cancer\, including breast and colon cancer\nSleep better at home\nReduce levels of stress and anxiety\nReach or maintain a healthy weight and reduce risk of excessive weight gain\nControl your blood pressure\nPossibly improve or maintain some aspects of cognitive function\, such as your ability to shift quickly between tasks or plan an activity\nPerk up your mood and reduce feelings of depression\n\nEmotional benefits of exercise \nResearch has shown that exercise is not only good for your physical health\, it also supports emotional and mental health. You can exercise with a friend and get the added benefit of emotional support. So\, next time you’re feeling down\, anxious\, or stressed\, try to get up and start moving! Physical activity can help: \n\nReduce feelings of depression and stress\, while improving your mood and overall emotional well-being\nIncrease your energy level\nImprove sleep\nEmpower you to feel more in control
URL:https://www.ponderosacommunityclub.com/event/exercise/
LOCATION:Clubhouse
CATEGORIES:Social
ATTACH;FMTTYPE=image/png:https://www.ponderosacommunityclub.com/wp-content/uploads/exercise-woman.png
ORGANIZER;CN="Rose Ann McRoberts":MAILTO:social@ponderosacommunityclub.com
END:VEVENT
BEGIN:VEVENT
DTSTART;TZID=America/Los_Angeles:20220530T133000
DTEND;TZID=America/Los_Angeles:20220530T163000
DTSTAMP:20260425T191612
CREATED:20220530T215027Z
LAST-MODIFIED:20220530T221455Z
UID:7483-1653917400-1653928200@www.ponderosacommunityclub.com
SUMMARY:Book Club
DESCRIPTION:
URL:https://www.ponderosacommunityclub.com/event/book-club/
LOCATION:Clubhouse
CATEGORIES:Social
ATTACH;FMTTYPE=image/jpeg:https://www.ponderosacommunityclub.com/wp-content/uploads/book-club.jpg
END:VEVENT
BEGIN:VEVENT
DTSTART;TZID=America/Los_Angeles:20220528T100000
DTEND;TZID=America/Los_Angeles:20220528T120000
DTSTAMP:20260425T191612
CREATED:20220514T061958Z
LAST-MODIFIED:20220530T194946Z
UID:6596-1653732000-1653739200@www.ponderosacommunityclub.com
SUMMARY:Annual Members Meeting - Pool Opens
DESCRIPTION:Annual Members Meeting 10am. Pool opens after meeting.
URL:https://www.ponderosacommunityclub.com/event/members-meeting/
LOCATION:Clubhouse
CATEGORIES:Community,Election
ATTACH;FMTTYPE=image/jpeg:https://www.ponderosacommunityclub.com/wp-content/uploads/pool.jpg
END:VEVENT
BEGIN:VEVENT
DTSTART;TZID=America/Los_Angeles:20220528T080000
DTEND;TZID=America/Los_Angeles:20220529T200000
DTSTAMP:20260425T191612
CREATED:20220514T070747Z
LAST-MODIFIED:20220514T071303Z
UID:6618-1653724800-1653854400@www.ponderosacommunityclub.com
SUMMARY:Memorial Day Events
DESCRIPTION:Ponderosa Community Events: \nMusic in the Park May 29th 2-4pm \nMovie Night (Encanto) May 29th 8:30pm \nFree Day May 28th-29th 8am to 8pm (Remove items by 10am Monday)
URL:https://www.ponderosacommunityclub.com/event/memorial-day-events/
LOCATION:Ponderosa Park\, 21100 Cayuse St\, Leavenworth\, WA 98826\, Leavenworth\, WA\, 98926\, United States
CATEGORIES:Community,Social
ATTACH;FMTTYPE=image/jpeg:https://www.ponderosacommunityclub.com/wp-content/uploads/Memorial-Flyer-2022.jpg
ORGANIZER;CN="Kathy Huber":MAILTO:social@ponderosacommunityclub.com
END:VEVENT
BEGIN:VEVENT
DTSTART;TZID=America/Los_Angeles:20220526T163000
DTEND;TZID=America/Los_Angeles:20220526T190000
DTSTAMP:20260425T191612
CREATED:20220514T070139Z
LAST-MODIFIED:20220514T070139Z
UID:6615-1653582600-1653591600@www.ponderosacommunityclub.com
SUMMARY:HAZY DAYZ Plain Food Truck
DESCRIPTION:Themed activities are on gardening\, which includes painting rocks.  The Fire dept will also  be there.  Food sales will be the $2 Tacos and Churros.     It was certainly awesome last month.   Both the  Food and Themed activities were great.
URL:https://www.ponderosacommunityclub.com/event/hazy-dayz-plain-food-truck/
LOCATION:Clubhouse
CATEGORIES:Social
ATTACH;FMTTYPE=image/png:https://www.ponderosacommunityclub.com/wp-content/uploads/food-truck.png
ORGANIZER;CN="Kathy Huber":MAILTO:social@ponderosacommunityclub.com
END:VEVENT
BEGIN:VEVENT
DTSTART;TZID=America/Los_Angeles:20220524T163000
DTEND;TZID=America/Los_Angeles:20220524T190000
DTSTAMP:20260425T191612
CREATED:20220514T065634Z
LAST-MODIFIED:20220514T065634Z
UID:6612-1653409800-1653418800@www.ponderosacommunityclub.com
SUMMARY:Pasta Sauce Class
DESCRIPTION:PASTA SAUCE CLASS @ WILDFLOUR  –   Please email Kathy Huber at   PonderosaSocialCommittee@gmail.com   to reserve your spot and arrange for payment of the class.    The class charge is $25.. which includes gratuity.
URL:https://www.ponderosacommunityclub.com/event/pasta-sauce-class/
LOCATION:Wildflour\, 20700 Club House Dr\, Leavenworth\, WA 98826\, Leavenworth\, WA\, 98826\, United States
CATEGORIES:Social
ATTACH;FMTTYPE=image/jpeg:https://www.ponderosacommunityclub.com/wp-content/uploads/Pasta-2022.jpg
ORGANIZER;CN="Kathy Huber":MAILTO:social@ponderosacommunityclub.com
END:VEVENT
BEGIN:VEVENT
DTSTART;TZID=America/Los_Angeles:20220518T180000
DTEND;TZID=America/Los_Angeles:20220518T200000
DTSTAMP:20260425T191612
CREATED:20220514T065035Z
LAST-MODIFIED:20220514T065035Z
UID:6609-1652896800-1652904000@www.ponderosacommunityclub.com
SUMMARY:Bunco
DESCRIPTION:We have our monthly Bunco Dice game held the 3rd Wednesday of each Month.   Please email your RSVP  to  PonderosaSocialCommittee@gmail.com to save a seat.
URL:https://www.ponderosacommunityclub.com/event/bunco/
LOCATION:Clubhouse
CATEGORIES:Social
ATTACH;FMTTYPE=image/jpeg:https://www.ponderosacommunityclub.com/wp-content/uploads/bunco.jpg
ORGANIZER;CN="Kathy Huber":MAILTO:social@ponderosacommunityclub.com
END:VEVENT
BEGIN:VEVENT
DTSTART;TZID=America/Los_Angeles:20220506T120000
DTEND;TZID=America/Los_Angeles:20220528T100000
DTSTAMP:20260425T191612
CREATED:20220514T063809Z
LAST-MODIFIED:20220514T071229Z
UID:6607-1651838400-1653732000@www.ponderosacommunityclub.com
SUMMARY:Election - May 6th to May 28th
DESCRIPTION:Election for 2 Trustees and Maintenance Shop Ballot Measure. Vote Here
URL:https://www.ponderosacommunityclub.com/event/election-may-6th-to-may-28th/
CATEGORIES:Election
ATTACH;FMTTYPE=image/png:https://www.ponderosacommunityclub.com/wp-content/uploads/vote-logo.png
END:VEVENT
BEGIN:VEVENT
DTSTART;TZID=America/Los_Angeles:20220501T080000
DTEND;TZID=America/Los_Angeles:20220531T210000
DTSTAMP:20260425T191612
CREATED:20220514T062654Z
LAST-MODIFIED:20220514T071731Z
UID:6601-1651392000-1654030800@www.ponderosacommunityclub.com
SUMMARY:Pine Needle Drop
DESCRIPTION:Bring your pine needles to the shop yard. This year we are not accepting limbs or branches. Please note\, only pine needles and cones from properties located in the Ponderosa will be accepted. Please fill out your Firewise Time Sheet with the number of hours spent cleaning up your pine needles.
URL:https://www.ponderosacommunityclub.com/event/pine-needle-drop/
CATEGORIES:Community
ATTACH;FMTTYPE=image/jpeg:https://www.ponderosacommunityclub.com/wp-content/uploads/pine-needle-cones.jpg
END:VEVENT
END:VCALENDAR